BEGIN:VCALENDAR
VERSION:2.0
PRODID:-//Stephenvilleheritage - ECPv6.15.20//NONSGML v1.0//EN
CALSCALE:GREGORIAN
METHOD:PUBLISH
X-ORIGINAL-URL:https://www.stephenvilleheritage.ca
X-WR-CALDESC:Events for Stephenvilleheritage
REFRESH-INTERVAL;VALUE=DURATION:PT1H
X-Robots-Tag:noindex
X-PUBLISHED-TTL:PT1H
BEGIN:VTIMEZONE
TZID:UTC
BEGIN:STANDARD
TZOFFSETFROM:+0000
TZOFFSETTO:+0000
TZNAME:UTC
DTSTART:20240101T000000
END:STANDARD
END:VTIMEZONE
BEGIN:VEVENT
DTSTART;TZID=UTC:20250828T190000
DTEND;TZID=UTC:20250828T210000
DTSTAMP:20260425T103607
CREATED:20250519T013510Z
LAST-MODIFIED:20260412T230411Z
UID:507-1756407600-1756414800@www.stephenvilleheritage.ca
SUMMARY:Music in the Park
DESCRIPTION:Stephenville Summer Soirée Presents: Music in the Park – LIVE in STEPHENVILLE!Jerome W. Delaney Memorial PavilionThursdays in July & August | ⏰ 7:00 – 9:00 PM \nMusic in the Park Stephenville is your go-to Thursday night escape! Relax under the summer sky with friends and family while enjoying incredible performances by local musicians in the heart of town. \n✨ FREE family event✨ Vibrant live entertainment✨ Beautiful park setting \nWhether you’re dancing\, singing along\, or just soaking in the sounds—this is where community and music come alive. See you there!
URL:https://www.stephenvilleheritage.ca/event/music-in-the-park-4/
CATEGORIES:Event
ATTACH;FMTTYPE=image/jpeg:https://www.stephenvilleheritage.ca/wp-content/uploads/2025/05/Music-in-the-Park-scaled.jpg
END:VEVENT
END:VCALENDAR